BEGIN:VCALENDAR
VERSION:2.0
PRODID:-//Lighthouse Community Church - ECPv6.15.20//NONSGML v1.0//EN
CALSCALE:GREGORIAN
METHOD:PUBLISH
X-WR-CALNAME:Lighthouse Community Church
X-ORIGINAL-URL:https://wearelcc.org
X-WR-CALDESC:Events for Lighthouse Community Church
REFRESH-INTERVAL;VALUE=DURATION:PT1H
X-Robots-Tag:noindex
X-PUBLISHED-TTL:PT1H
BEGIN:VTIMEZONE
TZID:UTC
BEGIN:STANDARD
TZOFFSETFROM:+0000
TZOFFSETTO:+0000
TZNAME:UTC
DTSTART:20230101T000000
END:STANDARD
END:VTIMEZONE
BEGIN:VEVENT
DTSTART;TZID=UTC:20240323T130000
DTEND;TZID=UTC:20240323T170000
DTSTAMP:20260421T185556
CREATED:20240208T101956Z
LAST-MODIFIED:20240214T165142Z
UID:10000001-1711198800-1711213200@wearelcc.org
SUMMARY:6th annual Community Easter Egg Hunt
DESCRIPTION:The people of LCC are excited to host our 6th Annual Community Easter Egg Hunt on Saturday\, March 23 at 1pm. \nAge groups are 2-4\, 5-8 and 9-12 \nAnd\, as always\, we have a special area for those with intellectual or physical disabilities of any age\, as well as an area for our friends in wheelchairs. \nPlease register all your children by filling out the form below\, and clicking send. This helps us prepare for the right amount of children. And.. your kids will get a prize at the check in table!! \nRead More \n\n	Notice: JavaScript is required for this content.
URL:https://wearelcc.org/event/6th-annual-community-easter-egg-hunt/
LOCATION:Pa.
ATTACH;FMTTYPE=image/webp:https://wearelcc.org/wp-content/uploads/2024/01/kidz.webp
END:VEVENT
END:VCALENDAR